BEGIN:VCALENDAR
PRODID:-//github.com/rianjs/ical.net//NONSGML ical.net 2.2//EN
VERSION:2.0
BEGIN:VTIMEZONE
TZID:Eastern Standard Time
END:VTIMEZONE
BEGIN:VEVENT
DESCRIPTION:Scout Meeting
DTEND:20250422T203000
DTSTAMP:20260419T025136Z
DTSTART:20250422T190000
LOCATION:Scout Shack
SEQUENCE:0
SUMMARY:Meeting
UID:11aa79f5-52d7-4937-8304-ddc606cbc89b
END:VEVENT
BEGIN:VEVENT
DESCRIPTION:Remarks: OA event\nDescription: OA event. Conclave
DTEND;VALUE=DATE:20250428
DTSTAMP:20260419T025136Z
DTSTART;VALUE=DATE:20250425
LOCATION:OA event
SEQUENCE:0
SUMMARY:OA
UID:5988162d-32ad-470a-86af-3d1dd91c5a04
END:VEVENT
BEGIN:VEVENT
DESCRIPTION:Remarks: \nDescription: Help park cars for Garden club
DTEND:20250426T153000
DTSTAMP:20260419T025136Z
DTSTART:20250426T093000
LOCATION:The Elms
SEQUENCE:0
SUMMARY:Parking Detail
UID:5696c785-dd62-4a2c-b215-5deab711b523
END:VEVENT
BEGIN:VEVENT
DESCRIPTION:Scout Meeting
DTEND:20250429T203000
DTSTAMP:20260419T025136Z
DTSTART:20250429T190000
LOCATION:Scout Shack
SEQUENCE:0
SUMMARY:Meeting
UID:7a114fb7-5e55-4f3f-b87f-a146959da151
END:VEVENT
BEGIN:VEVENT
DESCRIPTION:Remarks: Gatherings/ frog pond\nDescription: Gatherings/ frog 
 pond. Service hours for parking cars at the Gatherings and then camping a
 t the frog pond.
DTEND;VALUE=DATE:20250505
DTSTAMP:20260419T025136Z
DTSTART;VALUE=DATE:20250502
LOCATION:Gatherings/ frog pond
SEQUENCE:0
SUMMARY:Camping
UID:05f412dd-0453-4a11-9115-4dabf1ab2759
END:VEVENT
BEGIN:VEVENT
DESCRIPTION:Scout Meeting
DTEND:20250506T203000
DTSTAMP:20260419T025136Z
DTSTART:20250506T190000
LOCATION:Scout Shack
SEQUENCE:0
SUMMARY:Meeting
UID:b1f7cb16-12ee-4f17-ad34-f19603aeb198
END:VEVENT
BEGIN:VEVENT
DESCRIPTION:Remarks: Heritage day\nDescription: Heritage day. Parking cars
  at Heritage day. Service hours
DTEND;VALUE=DATE:20250511
DTSTAMP:20260419T025136Z
DTSTART;VALUE=DATE:20250510
LOCATION:Heritage day
SEQUENCE:0
SUMMARY:Serv Proj
UID:c3d969ed-4c2f-4c40-bce1-1752340c35b0
END:VEVENT
BEGIN:VEVENT
DESCRIPTION:Scout Meeting
DTEND:20250513T203000
DTSTAMP:20260419T025136Z
DTSTART:20250513T190000
LOCATION:Scout Shack
SEQUENCE:0
SUMMARY:Meeting
UID:d3e5110f-e4fc-4867-affc-bf6b1f65c760
END:VEVENT
BEGIN:VEVENT
DESCRIPTION:Remarks: \nDescription: Wahunsenakah Spring Service Weekend at
  Pipsico Scout Reservation Camp Kiwanis\n\nCandidates registering for the
  service weekend\, remember to bring your health form. The additional fee
  covers your sash\, handbook and 2025 OA dues.
DTEND;VALUE=DATE:20250519
DTSTAMP:20260419T025136Z
DTSTART;VALUE=DATE:20250516
LOCATION:Pipsico
SEQUENCE:0
SUMMARY:OA Spring Service 2025
UID:26df00af-6302-4cff-9021-fdf636a25ecf
END:VEVENT
BEGIN:VEVENT
DESCRIPTION:Remarks: \nDescription: We are helping Park cars and empty tra
 sh cans for Hunterdale Ruritan Club. We will meet at the Fair Grounds at 
 3pm and should be finished by 9pm. Attire will be Class A shirts with Cla
 ss B underneath. We are not camping there this year only service hours. I
 f you have any questions please contact Brent Gayle 757-375-8782.
DTEND:20250517T210000
DTSTAMP:20260419T025136Z
DTSTART:20250517T150000
LOCATION:Southampton Fair Grounds
SEQUENCE:0
SUMMARY:Help Hunterdale Ruritan with Beef BBQ
UID:28b631fa-e0f7-4c68-81bc-370d4111bc4a
END:VEVENT
BEGIN:VEVENT
DESCRIPTION:Scout Meeting
DTEND:20250520T203000
DTSTAMP:20260419T025136Z
DTSTART:20250520T190000
LOCATION:Scout Shack
SEQUENCE:0
SUMMARY:Meeting
UID:929da6ba-3f86-495e-a40d-10b8572f661d
END:VEVENT
BEGIN:VEVENT
DESCRIPTION:Scout Meeting
DTEND:20250527T203000
DTSTAMP:20260419T025136Z
DTSTART:20250527T190000
LOCATION:Scout Shack
SEQUENCE:0
SUMMARY:Meeting
UID:23ddcb84-c33c-4632-81ce-54655cce4f7b
END:VEVENT
BEGIN:VEVENT
DESCRIPTION:Remarks: BBQ Chicken Fundraiser ?\nDescription: BBQ Chicken Fu
 ndraiser ?
DTEND;VALUE=DATE:20250601
DTSTAMP:20260419T025136Z
DTSTART;VALUE=DATE:20250531
LOCATION:BBQ Chicken Fundraiser ?
SEQUENCE:0
SUMMARY:misc
UID:f37701a9-8ed2-4ea1-8411-1c2b7c9c9848
END:VEVENT
BEGIN:VEVENT
DESCRIPTION:Scout Meeting
DTEND:20250603T203000
DTSTAMP:20260419T025136Z
DTSTART:20250603T190000
LOCATION:Scout Shack
SEQUENCE:0
SUMMARY:Meeting
UID:38d91dfb-a014-4a7b-8d2f-fdc4d297c46c
END:VEVENT
BEGIN:VEVENT
DESCRIPTION:Remarks: Camp Hemric\nDescription: Camp Hemric on Lake Gaston.
  Clarksville\, Va
DTEND;VALUE=DATE:20250609
DTSTAMP:20260419T025136Z
DTSTART;VALUE=DATE:20250606
LOCATION:Camp Hemric
SEQUENCE:0
SUMMARY:Camping
UID:41d3f377-e739-44ff-bcfc-d6c208563437
END:VEVENT
BEGIN:VEVENT
DESCRIPTION:Scout Meeting
DTEND:20250610T203000
DTSTAMP:20260419T025136Z
DTSTART:20250610T190000
LOCATION:Scout Shack
SEQUENCE:0
SUMMARY:Meeting
UID:76fa9eb3-f616-4a42-bb8d-63b304d5b73b
END:VEVENT
BEGIN:VEVENT
DESCRIPTION:Scout Meeting
DTEND:20250617T203000
DTSTAMP:20260419T025136Z
DTSTART:20250617T190000
LOCATION:Scout Shack
SEQUENCE:0
SUMMARY:Meeting
UID:477b21e1-c0e9-4a87-994d-3976cffa656a
END:VEVENT
BEGIN:VEVENT
DESCRIPTION:Scout Meeting
DTEND:20250624T203000
DTSTAMP:20260419T025136Z
DTSTART:20250624T190000
LOCATION:Scout Shack
SEQUENCE:0
SUMMARY:Meeting
UID:bb888361-fa93-4083-8db8-3be265dc8a4e
END:VEVENT
BEGIN:VEVENT
DESCRIPTION:Remarks: Norfolk Tides\nDescription: Norfolk Tides Day trip
DTEND;VALUE=DATE:20250629
DTSTAMP:20260419T025136Z
DTSTART;VALUE=DATE:20250628
LOCATION:Norfolk Tides
SEQUENCE:0
SUMMARY:misc
UID:3458cdaf-f02f-495b-b300-4c125d9d4a20
END:VEVENT
BEGIN:VEVENT
DESCRIPTION:Scout Meeting
DTEND:20250701T203000
DTSTAMP:20260419T025136Z
DTSTART:20250701T190000
LOCATION:Scout Shack
SEQUENCE:0
SUMMARY:Meeting
UID:0a61e589-aa27-4753-93e4-58339b6e2a8c
END:VEVENT
BEGIN:VEVENT
DESCRIPTION:Remarks: Troop 17 Summer Camp\nDescription: This years Troop 1
 7 Summer Camp will be at Summit Bechtel Reserve in West Virginia.
DTEND;VALUE=DATE:20250713
DTSTAMP:20260419T025136Z
DTSTART;VALUE=DATE:20250706
LOCATION:Summit Bechtel Reserve
SEQUENCE:0
SUMMARY:Summer Camp
UID:41d51d96-61eb-41ae-b143-5c9853b6af2b
END:VEVENT
BEGIN:VEVENT
DESCRIPTION:Scout Meeting
DTEND:20250708T203000
DTSTAMP:20260419T025136Z
DTSTART:20250708T190000
LOCATION:Scout Shack
SEQUENCE:0
SUMMARY:Meeting
UID:03113095-4609-4519-8e18-0384d21894ae
END:VEVENT
BEGIN:VEVENT
DESCRIPTION:Remarks: Committee Meeting\nDescription: Committee Meeting to 
 discuss upcoming events and business with the troop.
DTEND:20250715T190000
DTSTAMP:20260419T025136Z
DTSTART:20250715T180000
LOCATION:Scout Shack
SEQUENCE:0
SUMMARY:Committee Meeting
UID:fcff78fa-1f94-4882-a823-9ac78c23a816
END:VEVENT
BEGIN:VEVENT
DESCRIPTION:Scout Meeting
DTEND:20250715T203000
DTSTAMP:20260419T025136Z
DTSTART:20250715T190000
LOCATION:Scout Shack
SEQUENCE:0
SUMMARY:Meeting
UID:1d60e5fc-f2cf-4209-9088-62a4666e04b6
END:VEVENT
BEGIN:VEVENT
DESCRIPTION:Remarks: Serve meals for Vacation Bible School\nDescription: W
 e have been asked once again to help serve meals for Vacation Bible Schoo
 l at High Street Methodist Church. Please mark on you calendar for Wednes
 day\, July 16 at 5pm. We will be serving grilled cheese sandwiches once a
 gain. \n\nBrent Gayle will be the POC for this Service Project. cell - 75
 7-375-8782\n\nPlease click the link below to RSVP if you are able to help
  with this Service Project so the we can get an idea of who can help. Tha
 nks!!
DTEND:20250716T180000
DTSTAMP:20260419T025136Z
DTSTART:20250716T170000
LOCATION:High Street Methodist Church
SEQUENCE:0
SUMMARY:Serv Proj
UID:a10855fa-eadb-4b64-8eea-bb74ccbf4e23
END:VEVENT
BEGIN:VEVENT
DESCRIPTION:Scout Meeting
DTEND:20250722T203000
DTSTAMP:20260419T025136Z
DTSTART:20250722T190000
LOCATION:Scout Shack
SEQUENCE:0
SUMMARY:Meeting
UID:1db74a33-8b16-46f3-b766-ffa73a327837
END:VEVENT
BEGIN:VEVENT
DESCRIPTION:Scout Meeting
DTEND:20250729T203000
DTSTAMP:20260419T025136Z
DTSTART:20250729T190000
LOCATION:Scout Shack
SEQUENCE:0
SUMMARY:Meeting
UID:eefebd18-e50c-476b-9b25-a43daef144e1
END:VEVENT
BEGIN:VEVENT
DESCRIPTION:Scout Meeting
DTEND:20250805T203000
DTSTAMP:20260419T025136Z
DTSTART:20250805T190000
LOCATION:Scout Shack
SEQUENCE:0
SUMMARY:Meeting
UID:6784cdaf-7214-4d23-8a6f-fc7ae95be3a7
END:VEVENT
BEGIN:VEVENT
DESCRIPTION:Scout Meeting
DTEND:20250812T203000
DTSTAMP:20260419T025136Z
DTSTART:20250812T190000
LOCATION:Scout Shack
SEQUENCE:0
SUMMARY:Meeting
UID:51f1c264-5188-44fb-baec-53a83c203f80
END:VEVENT
BEGIN:VEVENT
DESCRIPTION:Remarks: Richmond Raceway\nDescription: NASCAR trip to Richmon
 d Raceway
DTEND;VALUE=DATE:20250818
DTSTAMP:20260419T025136Z
DTSTART;VALUE=DATE:20250816
LOCATION:Richmond Raceway
SEQUENCE:0
SUMMARY:Camping
UID:ec1a0a3b-dc07-43ed-b544-392f010d092b
END:VEVENT
BEGIN:VEVENT
DESCRIPTION:Remarks: \nDescription: Build Bat Boxes
DTEND;VALUE=DATE:20250820
DTSTAMP:20260419T025136Z
DTSTART;VALUE=DATE:20250819
LOCATION:Scout Shack
SEQUENCE:0
SUMMARY:Conservation
UID:28a8f918-ff00-47bc-b49d-c4b983898b93
END:VEVENT
BEGIN:VEVENT
DESCRIPTION:Scout Meeting
DTEND:20250819T203000
DTSTAMP:20260419T025136Z
DTSTART:20250819T190000
LOCATION:Scout Shack
SEQUENCE:0
SUMMARY:Meeting
UID:261bcc76-3bfd-4ec2-af4a-5a1be758fec4
END:VEVENT
BEGIN:VEVENT
DESCRIPTION:Remarks: \nDescription: Build Bat Boxes
DTEND;VALUE=DATE:20250827
DTSTAMP:20260419T025136Z
DTSTART;VALUE=DATE:20250826
LOCATION:Scout Shack
SEQUENCE:0
SUMMARY:Conservation
UID:a2e55279-4472-4721-92aa-ea782f024799
END:VEVENT
BEGIN:VEVENT
DESCRIPTION:Scout Meeting
DTEND:20250826T203000
DTSTAMP:20260419T025136Z
DTSTART:20250826T190000
LOCATION:Scout Shack
SEQUENCE:0
SUMMARY:Meeting
UID:04aa89c1-d3df-42c7-88e4-1a5baa96b35e
END:VEVENT
BEGIN:VEVENT
DESCRIPTION:Remarks: \nDescription: Build Bat Boxes
DTEND;VALUE=DATE:20250903
DTSTAMP:20260419T025136Z
DTSTART;VALUE=DATE:20250902
LOCATION:Scout Shack
SEQUENCE:0
SUMMARY:Conservation
UID:7cef8e9e-c368-493b-8e09-6bfaabb6111a
END:VEVENT
BEGIN:VEVENT
DESCRIPTION:Scout Meeting
DTEND:20250902T203000
DTSTAMP:20260419T025136Z
DTSTART:20250902T190000
LOCATION:Scout Shack
SEQUENCE:0
SUMMARY:Meeting
UID:35c50582-e11c-4e2e-80f0-6a0ac019d460
END:VEVENT
BEGIN:VEVENT
DESCRIPTION:Scout Meeting
DTEND:20250909T203000
DTSTAMP:20260419T025136Z
DTSTART:20250909T190000
LOCATION:Scout Shack
SEQUENCE:0
SUMMARY:Meeting
UID:bcce8099-3aed-43e1-a17f-48c54731e177
END:VEVENT
BEGIN:VEVENT
DESCRIPTION:Scout Meeting
DTEND:20250916T203000
DTSTAMP:20260419T025136Z
DTSTART:20250916T190000
LOCATION:Scout Shack
SEQUENCE:0
SUMMARY:Meeting
UID:dc8f3526-c526-4df1-979a-149d80c0acca
END:VEVENT
BEGIN:VEVENT
DESCRIPTION:Remarks: \nDescription: Camping trip to OBX
DTEND;VALUE=DATE:20250922
DTSTAMP:20260419T025136Z
DTSTART;VALUE=DATE:20250919
LOCATION:OBX
SEQUENCE:0
SUMMARY:OBX Campout
UID:13721edf-c929-413c-96da-84a37fa4ce73
END:VEVENT
BEGIN:VEVENT
DESCRIPTION:Type: OA\nLocation: PepsiCo Scout Reservation\n
DTEND;VALUE=DATE:20250922
DTSTAMP:20260419T025136Z
DTSTART;VALUE=DATE:20250919
LOCATION:PepsiCo Scout Reservation
SEQUENCE:0
SUMMARY:OA - Summer Service Weekend
UID:d92a67cb-34bf-4407-8d4f-2a57b061fe13
END:VEVENT
BEGIN:VEVENT
DESCRIPTION:Scout Meeting
DTEND:20250923T203000
DTSTAMP:20260419T025136Z
DTSTART:20250923T190000
LOCATION:Scout Shack
SEQUENCE:0
SUMMARY:Meeting
UID:7464e393-f048-477e-82ba-e212c5a2f9fc
END:VEVENT
BEGIN:VEVENT
DESCRIPTION:Scout Meeting
DTEND:20250930T203000
DTSTAMP:20260419T025136Z
DTSTART:20250930T190000
LOCATION:Scout Shack
SEQUENCE:0
SUMMARY:Meeting
UID:08d4de43-4134-4eea-b454-2d484d0ee6ee
END:VEVENT
BEGIN:VEVENT
DESCRIPTION:Scout Meeting
DTEND:20251007T203000
DTSTAMP:20260419T025136Z
DTSTART:20251007T190000
LOCATION:Scout Shack
SEQUENCE:0
SUMMARY:Meeting
UID:fedeaff9-87fb-414c-a5c5-5415649558d3
END:VEVENT
BEGIN:VEVENT
DESCRIPTION:Scout Meeting
DTEND:20251014T203000
DTSTAMP:20260419T025136Z
DTSTART:20251014T190000
LOCATION:Scout Shack
SEQUENCE:0
SUMMARY:Meeting
UID:0f754681-9b74-4790-932b-a876b0ab6f6b
END:VEVENT
BEGIN:VEVENT
DESCRIPTION:Remarks: Committee Meeting\nDescription: Committee Meeting to 
 discuss upcoming events and business with the troop.
DTEND:20251021T190000
DTSTAMP:20260419T025136Z
DTSTART:20251021T180000
LOCATION:Scout Shack
SEQUENCE:0
SUMMARY:Committee Meeting
UID:0a3eebb5-0c8a-4dba-8544-93eca45bf5ee
END:VEVENT
BEGIN:VEVENT
DESCRIPTION:Scout Meeting
DTEND:20251021T203000
DTSTAMP:20260419T025136Z
DTSTART:20251021T190000
LOCATION:Scout Shack
SEQUENCE:0
SUMMARY:Meeting
UID:4d163285-9234-4f38-8e17-e690506f058f
END:VEVENT
BEGIN:VEVENT
DESCRIPTION:Remarks: Assist with Parking Vehicles for Trunk or Treat\nDesc
 ription: Troop 17 has again been asked to assist with parking cars at the
  Trunk or Treat hosted at Gatherings in Soco. We will need to be onsite n
 o later than 5pm.  The event is expected to last for 2.5 hrs so we should
  be done by 730pm. Traffic vests and lights will be provided for the scou
 ts use. The address for this event is 31001 Smith's Ferry Rd\, Franklin\,
  VA 23851. If you are coming from Franklin\, It is located on the left ju
 st before the trailer park formerly known as Southampton Meadows.  ASM Br
 ent Gayle will be the POC for this event. If you have any questions or ne
 ed further clarification he can be reached at 757-375-8782. \n\n
DTEND;VALUE=DATE:20251025
DTSTAMP:20260419T025136Z
DTSTART;VALUE=DATE:20251024
LOCATION:Gatherings in SoCo
SEQUENCE:0
SUMMARY:Serv Proj
UID:5abdb4e6-005e-4efc-ac09-41da96f97a1f
END:VEVENT
BEGIN:VEVENT
DESCRIPTION:Scout Meeting
DTEND:20251028T203000
DTSTAMP:20260419T025136Z
DTSTART:20251028T190000
LOCATION:Scout Shack
SEQUENCE:0
SUMMARY:Meeting
UID:60698f56-3ddf-4a89-9795-5c2df831044d
END:VEVENT
BEGIN:VEVENT
DESCRIPTION:Scout Meeting
DTEND:20251104T203000
DTSTAMP:20260419T025136Z
DTSTART:20251104T190000
LOCATION:Scout Shack
SEQUENCE:0
SUMMARY:Meeting
UID:72ced766-95c4-415f-8e44-99e1e307b075
END:VEVENT
BEGIN:VEVENT
DESCRIPTION:Scout Meeting
DTEND:20251111T203000
DTSTAMP:20260419T025136Z
DTSTART:20251111T190000
LOCATION:Scout Shack
SEQUENCE:0
SUMMARY:Meeting
UID:cd6b793f-1276-4c02-a7b5-51728f3e8e57
END:VEVENT
BEGIN:VEVENT
DESCRIPTION:Scout Meeting
DTEND:20251118T203000
DTSTAMP:20260419T025136Z
DTSTART:20251118T190000
LOCATION:Scout Shack
SEQUENCE:0
SUMMARY:Meeting
UID:38ad8a4d-6ae0-4c79-9939-03adcb1deb50
END:VEVENT
BEGIN:VEVENT
DESCRIPTION:Scout Meeting
DTEND:20251125T203000
DTSTAMP:20260419T025136Z
DTSTART:20251125T190000
LOCATION:Scout Shack
SEQUENCE:0
SUMMARY:Meeting
UID:3e0a1377-ad1e-4e1b-a124-3bd8bd836172
END:VEVENT
BEGIN:VEVENT
DESCRIPTION:Remarks: \nDescription: Good Day and Happy Thanksgiving Troop 
 17 Family\,\n\nThis Saturday\, November 29th\, the Scouts from Troop 17 w
 ill be helping sell hot dogs and hamburgers at the Rawls Museum for their
  Artisan Fair from 10am-2pm. This will be a fundraiser for the troop. Sco
 uts will need to be in their Class A uniforms.  ASM Brent Gayle\, 757-375
 -8782\, will be the POC for this event. Looking forward to seeing everyon
 e who is available to be there. \n\nYours in Scouting\,\n\nBrent Gayle\nT
 roop 17 \nAssistant Scoutmaster \nTroop 17 Website: Troop17VA.com
DTEND:20251129T100000
DTSTAMP:20260419T025136Z
DTSTART:20251129T100000
LOCATION:Rawls Museum Courtland
SEQUENCE:0
SUMMARY:Hot Dog Hamburger Sale
UID:43230d94-1c29-41d7-b459-efb5ed5afb45
END:VEVENT
BEGIN:VEVENT
DESCRIPTION:Scout Meeting
DTEND:20251202T203000
DTSTAMP:20260419T025136Z
DTSTART:20251202T190000
LOCATION:Scout Shack
SEQUENCE:0
SUMMARY:Meeting
UID:5e7a7a6d-483f-4fd8-bf6e-cfeb858696d0
END:VEVENT
BEGIN:VEVENT
DESCRIPTION:Scout Meeting
DTEND:20251209T203000
DTSTAMP:20260419T025136Z
DTSTART:20251209T190000
LOCATION:Scout Shack
SEQUENCE:0
SUMMARY:Meeting
UID:0ee15bac-b75f-489f-8c72-9c1274525636
END:VEVENT
BEGIN:VEVENT
DESCRIPTION:Scout Meeting
DTEND:20251216T203000
DTSTAMP:20260419T025136Z
DTSTART:20251216T190000
LOCATION:Scout Shack
SEQUENCE:0
SUMMARY:Meeting
UID:2b98ff64-dd06-4720-ae95-cc5e454ea12b
END:VEVENT
BEGIN:VEVENT
DESCRIPTION:Scout Meeting
DTEND:20251223T203000
DTSTAMP:20260419T025136Z
DTSTART:20251223T190000
LOCATION:Scout Shack
SEQUENCE:0
SUMMARY:Meeting
UID:965631ce-aa2b-41e7-bc3b-e0ae97570053
END:VEVENT
BEGIN:VEVENT
DESCRIPTION:Scout Meeting
DTEND:20251230T203000
DTSTAMP:20260419T025136Z
DTSTART:20251230T190000
LOCATION:Scout Shack
SEQUENCE:0
SUMMARY:Meeting
UID:37b41a3a-1c5c-42ef-979b-3e42781ec118
END:VEVENT
BEGIN:VEVENT
DESCRIPTION:Scout Meeting
DTEND:20260106T203000
DTSTAMP:20260419T025136Z
DTSTART:20260106T190000
LOCATION:Scout Shack
SEQUENCE:0
SUMMARY:Meeting
UID:213ebfa1-7de0-471b-9be8-60c1db2b0221
END:VEVENT
BEGIN:VEVENT
DESCRIPTION:Scout Meeting
DTEND:20260113T203000
DTSTAMP:20260419T025136Z
DTSTART:20260113T190000
LOCATION:Scout Shack
SEQUENCE:0
SUMMARY:Meeting
UID:ac36594c-2391-4257-a255-14fb1700bdbd
END:VEVENT
BEGIN:VEVENT
DESCRIPTION:Remarks: Committee Meeting\nDescription: Committee Meeting to 
 discuss upcoming events and business with the troop.
DTEND:20260120T190000
DTSTAMP:20260419T025136Z
DTSTART:20260120T180000
LOCATION:Scout Shack
SEQUENCE:0
SUMMARY:Committee Meeting
UID:72607de1-730e-434c-941d-21690fd2f63a
END:VEVENT
BEGIN:VEVENT
DESCRIPTION:Scout Meeting
DTEND:20260120T203000
DTSTAMP:20260419T025136Z
DTSTART:20260120T190000
LOCATION:Scout Shack
SEQUENCE:0
SUMMARY:Meeting
UID:be40d8eb-fb77-4513-992c-ca84ef5e78ac
END:VEVENT
BEGIN:VEVENT
DESCRIPTION:Type: Camping\nLocation: Johnsons Farm\n
DTEND;VALUE=DATE:20260126
DTSTAMP:20260419T025136Z
DTSTART;VALUE=DATE:20260123
LOCATION:Johnsons Farm
SEQUENCE:0
SUMMARY:Camping
UID:d52d60de-a4db-4311-b635-5d1535ff664a
END:VEVENT
BEGIN:VEVENT
DESCRIPTION:Scout Meeting
DTEND:20260127T203000
DTSTAMP:20260419T025136Z
DTSTART:20260127T190000
LOCATION:Scout Shack
SEQUENCE:0
SUMMARY:Meeting
UID:897897bc-4a62-4303-91cc-312bd6768da4
END:VEVENT
BEGIN:VEVENT
DESCRIPTION:Scout Meeting
DTEND:20260203T203000
DTSTAMP:20260419T025136Z
DTSTART:20260203T190000
LOCATION:Scout Shack
SEQUENCE:0
SUMMARY:Meeting
UID:ef87b2a3-89dc-40f2-98e8-f2f6d889a802
END:VEVENT
BEGIN:VEVENT
DESCRIPTION:Scout Meeting
DTEND:20260210T203000
DTSTAMP:20260419T025136Z
DTSTART:20260210T190000
LOCATION:Scout Shack
SEQUENCE:0
SUMMARY:Meeting
UID:c2add0c9-4813-404a-a69f-fdb04b5d6c04
END:VEVENT
BEGIN:VEVENT
DESCRIPTION:Scout Meeting
DTEND:20260217T203000
DTSTAMP:20260419T025136Z
DTSTART:20260217T190000
LOCATION:Scout Shack
SEQUENCE:0
SUMMARY:Meeting
UID:aec3292d-cadd-42af-87b6-0407752833e6
END:VEVENT
BEGIN:VEVENT
DESCRIPTION:Scout Meeting
DTEND:20260224T203000
DTSTAMP:20260419T025136Z
DTSTART:20260224T190000
LOCATION:Scout Shack
SEQUENCE:0
SUMMARY:Meeting
UID:da066946-0afc-4fbd-ae80-96b1ed81944e
END:VEVENT
BEGIN:VEVENT
DESCRIPTION:Scout Meeting
DTEND:20260303T203000
DTSTAMP:20260419T025136Z
DTSTART:20260303T190000
LOCATION:Scout Shack
SEQUENCE:0
SUMMARY:Meeting
UID:94fa5bc5-9c79-4ff9-bf1a-ec901c98f524
END:VEVENT
END:VCALENDAR
